BEGIN:VCALENDAR
VERSION:2.0
PRODID:-//prinzessinnengarten kollektiv berlin - ECPv6.15.18//NONSGML v1.0//EN
CALSCALE:GREGORIAN
METHOD:PUBLISH
X-ORIGINAL-URL:https://prinzessinnengarten-kollektiv.net
X-WR-CALDESC:Veranstaltungen für prinzessinnengarten kollektiv berlin
REFRESH-INTERVAL;VALUE=DURATION:PT1H
X-Robots-Tag:noindex
X-PUBLISHED-TTL:PT1H
BEGIN:VTIMEZONE
TZID:Europe/Berlin
BEGIN:DAYLIGHT
TZOFFSETFROM:+0100
TZOFFSETTO:+0200
TZNAME:CEST
DTSTART:20200329T010000
END:DAYLIGHT
BEGIN:STANDARD
TZOFFSETFROM:+0200
TZOFFSETTO:+0100
TZNAME:CET
DTSTART:20201025T010000
END:STANDARD
BEGIN:DAYLIGHT
TZOFFSETFROM:+0100
TZOFFSETTO:+0200
TZNAME:CEST
DTSTART:20210328T010000
END:DAYLIGHT
BEGIN:STANDARD
TZOFFSETFROM:+0200
TZOFFSETTO:+0100
TZNAME:CET
DTSTART:20211031T010000
END:STANDARD
BEGIN:DAYLIGHT
TZOFFSETFROM:+0100
TZOFFSETTO:+0200
TZNAME:CEST
DTSTART:20220327T010000
END:DAYLIGHT
BEGIN:STANDARD
TZOFFSETFROM:+0200
TZOFFSETTO:+0100
TZNAME:CET
DTSTART:20221030T010000
END:STANDARD
END:VTIMEZONE
BEGIN:VEVENT
DTSTART;TZID=Europe/Berlin:20211029T103000
DTEND;TZID=Europe/Berlin:20211029T130000
DTSTAMP:20260425T043341
CREATED:20211025T093357Z
LAST-MODIFIED:20220514T083016Z
UID:1332-1635503400-1635512400@prinzessinnengarten-kollektiv.net
SUMMARY:Zeichnen\, Tee und Friedhofswandel
DESCRIPTION:studio nagelneu lädt ein um gemeinsamen eine Vision von zukünftigen Friedhofsflächen zu erstellen! Wir werden Tee trinken\, uns austauschen und Visionen skizzieren\, wie Friedhöge in Berlin und anderen Städten in der ZUkunftaussehen könnten. Eure Ideen können abstrakt\, konkret\, wild\, duknkel\, farbenfroh sein. Papier und Zeichenmaterialien sind vorhanden\, aber bringt auch gern eure eigenen Materialien mit! \nKostenlos mit Anmeldung via nagelneu@prinzessinnengarten.net oder direkt im studio nagelneu. \n2G – bitte kommt gensesen oder geinmpft. \n  \nENGLISH \nWe will drink tea and chat while we imagine and draw how cemeteries in Berlin/cities can look like in the future. Ideas can be abstract\, concrete\, wild\, normal\, dark\, colorful. Paper and drawing materials will be available\, but you are welcome to bring your own. \nFree participation with sign up via nagelneu@prinzessinnengarten.net or directly at studio nagelneu \n2G – please come vaccianated or recovered. \n  \n\n\n\n\n\nDiese Veranstaltung findet im Rahmen des Edible Cities Networks statt und wird untersützt vom Projektfonds Urbane Praxis. \n\n\n\n\n\n\n\n\n\n\n\n\n\n\n\n\n\n\n\nDas studio nagelneu\, ein ehemaliges Nagelstudio\, wird für die nächsten zwei Jahre zum öffentlichen Wohnzimmer für den Kiez. Initiiert vom Prinzessinnengarten Kollektiv Berlin und gestaltet vom Berliner Architekt:innen Kollektiv Team Dis+Ko wird der Raum zwischengenutzt und bietet Platz für Initiativen aus der Nachbarschaft\, Workshops\, Treffen und Veranstaltungen – für euch! \nWeitere Infos dazu findet ihr hier!
URL:https://prinzessinnengarten-kollektiv.net/event/zeichnen-tee-und-friedhofswandel/
LOCATION:studio nagelneu\, Hermannstraße 103\, Berliin\, 12051\, Deutschland
CATEGORIES:edicitnet,studio nagelneu,urbane praxis
ATTACH;FMTTYPE=image/jpeg:https://prinzessinnengarten-kollektiv.net/wp-content/uploads/2021/10/211029_cemetary-transformation.jpg
END:VEVENT
BEGIN:VEVENT
DTSTART;TZID=Europe/Berlin:20211029T140000
DTEND;TZID=Europe/Berlin:20211029T170000
DTSTAMP:20260425T043341
CREATED:20211025T085735Z
LAST-MODIFIED:20220207T164641Z
UID:1325-1635516000-1635526800@prinzessinnengarten-kollektiv.net
SUMMARY:Kompost Wenden mit BodenschätzeN
DESCRIPTION:Ein Jahr lang wird BodenschätzeN uns dabei begleiten\, Boden aus unterschiedlichsten Perspektiven kennenzulernen. \nNach der Arbeitswoche vor dem Bildschirm so richtig auspowern? Mach mit beim Kompost wenden mit BodenschätzeN am Fr. 29.10 von 14 – 17 Uhr! \nDer Komposthaufen ist sehr groß und wir sind beim Aktionstag am 16.10 noch nicht damit fertig geworden. Viel organisches Material wartet darauf\, mit der Mistgabel in die nächste Miethen-Kammer geschleudert zu werden. Die fertig kompostierte Erde darfst du gerne mit all deine Wucht gegen den Sieb werfen. \nDamit ernten wir Kompost für die nächste Gartensaison und gleichzeitig aktivieren wir die Miethe: Beim Wenden kommt Sauerstoff rein. Das gefällt Bodenorganismen gut: sie vermehren sich rasch\, was die Rotteprozess beschleunigt und die Temperatur in der Miethe steigen lässt. Schön gemütlich für den Winter! \nAnmeldungen bitte via bodenschaetzen@workstation-berlin.org
URL:https://prinzessinnengarten-kollektiv.net/event/kompost-wenden-mit-bodenschaetzen/
LOCATION:Prinzessinnengarten Kollektiv Berlin\, Hermannstraße 99-105\, Berlin\, 12051\, Deutschland
ATTACH;FMTTYPE=image/jpeg:https://prinzessinnengarten-kollektiv.net/wp-content/uploads/2021/08/210925_bodenschaetzeN.jpg
END:VEVENT
BEGIN:VEVENT
DTSTART;TZID=Europe/Berlin:20211029T160000
DTEND;TZID=Europe/Berlin:20211029T180000
DTSTAMP:20260425T043341
CREATED:20211025T093410Z
LAST-MODIFIED:20220413T090923Z
UID:1334-1635523200-1635530400@prinzessinnengarten-kollektiv.net
SUMMARY:Pilzworkshop
DESCRIPTION:studio nagelneu lädt ein zum Pilzworkshop! \nFreitag\, 29. Oktober 2021\n16 – 18 Uhr \nKomm vorbei und starte deine eigene Pilzzucht zu Hause! \nKostenlos und ohne Anmeldung! \n\n\n\n\n\n  \nMit freundlicher Unterstützung von Projektfonds Urbane Praxis \n\n\n\n\n\n\n\n\n\n\n\n\n\n\n\n\n\n\n\nDas studio nagelneu\, ein ehemaliges Nagelstudio\, wird für die nächsten zwei Jahre zum öffentlichen Wohnzimmer für den Kiez. Initiiert vom Prinzessinnengarten Kollektiv Berlin und gestaltet vom Berliner Architekt:innen Kollektiv Team Dis+Ko wird der Raum zwischengenutzt und bietet Platz für Initiativen aus der Nachbarschaft\, Workshops\, Treffen und Veranstaltungen – für euch! \nWeitere Infos dazu findet ihr hier!
URL:https://prinzessinnengarten-kollektiv.net/event/pilzworkshop-2/
LOCATION:studio nagelneu\, Hermannstraße 103\, Berliin\, 12051\, Deutschland
CATEGORIES:edicitnet,studio nagelneu
ATTACH;FMTTYPE=image/jpeg:https://prinzessinnengarten-kollektiv.net/wp-content/uploads/2021/10/211022_mushworkshop2.jpg
END:VEVENT
BEGIN:VEVENT
DTSTART;TZID=Europe/Berlin:20211029T180000
DTEND;TZID=Europe/Berlin:20211029T220000
DTSTAMP:20260425T043341
CREATED:20210930T085831Z
LAST-MODIFIED:20220208T084305Z
UID:1252-1635530400-1635544800@prinzessinnengarten-kollektiv.net
SUMMARY:Kultureller Freitag mit Silent Disco und Lichtkunst
DESCRIPTION:Zum Abschluss unserer Draussen-Saison möchten wir mit euch noch einmal bei Pizza\, Bar und feinem Kultur-Programm zusammenkommen um die vergangene Saison zu feiern! \nDamit uns auch bei niedrigen Temperaturen nicht kalt wird\, sorgen wir für tanzbares auf die Ohren – direkt über Funkkopfhörer in euren Gehörgang\, ab in die Hüfte und ins Tanzbein! Ergänzt mit einem Meer aus Licht und Funkeln in den Augen soll uns dieser Abend in bester Erinnnerung bleiben bevor wir in den Winterschlaf gehen. \nLine-Up Silent Disko \nDJ Vela – Techno\nDJ The Hand – Disco\nSexy Biscvits – Heavy Metal \nAnmeldung\nBitte meldet euch vorab via event@prinzessinnengarten.net an! \nDie Teilnahme an der Veranstaltung ist kostenlos. \nWeitere Veranstaltungen im Rahmen unserer Kultureller Freitage findet ihr hier. \n  \n\n\n\n\n\nMit freundlicher Unterstützung von Projektfonds Urbane Praxis
URL:https://prinzessinnengarten-kollektiv.net/event/kultureller-freitag-mit-silent-disco-und-lichtkunst/
LOCATION:Prinzessinnengarten Kollektiv Berlin\, Hermannstraße 99-105\, Berlin\, 12051\, Deutschland
CATEGORIES:Kultureller Freitag
ATTACH;FMTTYPE=image/jpeg:https://prinzessinnengarten-kollektiv.net/wp-content/uploads/2021/08/210827_Lichtbaum_1.jpg
END:VEVENT
END:VCALENDAR