BEGIN:VCALENDAR
VERSION:2.0
PRODID:-//prinzessinnengarten kollektiv berlin - ECPv6.15.18//NONSGML v1.0//EN
CALSCALE:GREGORIAN
METHOD:PUBLISH
X-ORIGINAL-URL:https://prinzessinnengarten-kollektiv.net
X-WR-CALDESC:Veranstaltungen für prinzessinnengarten kollektiv berlin
REFRESH-INTERVAL;VALUE=DURATION:PT1H
X-Robots-Tag:noindex
X-PUBLISHED-TTL:PT1H
BEGIN:VTIMEZONE
TZID:Europe/Berlin
BEGIN:DAYLIGHT
TZOFFSETFROM:+0100
TZOFFSETTO:+0200
TZNAME:CEST
DTSTART:20200329T010000
END:DAYLIGHT
BEGIN:STANDARD
TZOFFSETFROM:+0200
TZOFFSETTO:+0100
TZNAME:CET
DTSTART:20201025T010000
END:STANDARD
BEGIN:DAYLIGHT
TZOFFSETFROM:+0100
TZOFFSETTO:+0200
TZNAME:CEST
DTSTART:20210328T010000
END:DAYLIGHT
BEGIN:STANDARD
TZOFFSETFROM:+0200
TZOFFSETTO:+0100
TZNAME:CET
DTSTART:20211031T010000
END:STANDARD
BEGIN:DAYLIGHT
TZOFFSETFROM:+0100
TZOFFSETTO:+0200
TZNAME:CEST
DTSTART:20220327T010000
END:DAYLIGHT
BEGIN:STANDARD
TZOFFSETFROM:+0200
TZOFFSETTO:+0100
TZNAME:CET
DTSTART:20221030T010000
END:STANDARD
END:VTIMEZONE
BEGIN:VEVENT
DTSTART;TZID=Europe/Berlin:20211022T160000
DTEND;TZID=Europe/Berlin:20211022T180000
DTSTAMP:20260425T042106
CREATED:20211014T101817Z
LAST-MODIFIED:20220514T083031Z
UID:1315-1634918400-1634925600@prinzessinnengarten-kollektiv.net
SUMMARY:Pilzworkshop
DESCRIPTION:studio nagelneu lädt ein zum Pilzworkshop! \nFreitag\, 22. Oktober 2021\n17 – 18:30 Uhr \nKomm vorbei und starte deine eigene Pilzzucht zu Hause! \nKostenlos mit Anmeldung via nagelneu@prinzessinnengarten.net! \n\n\n\n\n\n  \nMit freundlicher Unterstützung von Projektfonds Urbane Praxis \n\n\n\n\n\n\n\n\n\n\n\n\n\n\n\n\n\n\n\nDas studio nagelneu\, ein ehemaliges Nagelstudio\, wird für die nächsten zwei Jahre zum öffentlichen Wohnzimmer für den Kiez. Initiiert vom Prinzessinnengarten Kollektiv Berlin und gestaltet vom Berliner Architekt:innen Kollektiv Team Dis+Ko wird der Raum zwischengenutzt und bietet Platz für Initiativen aus der Nachbarschaft\, Workshops\, Treffen und Veranstaltungen – für euch! \nWeitere Infos dazu findet ihr hier!
URL:https://prinzessinnengarten-kollektiv.net/event/pilzworkshop/
LOCATION:studio nagelneu\, Hermannstraße 103\, Berliin\, 12051\, Deutschland
CATEGORIES:edicitnet,studio nagelneu,urbane praxis
ATTACH;FMTTYPE=image/jpeg:https://prinzessinnengarten-kollektiv.net/wp-content/uploads/2021/10/211022_mushworkshop2.jpg
END:VEVENT
BEGIN:VEVENT
DTSTART;TZID=Europe/Berlin:20211022T190000
DTEND;TZID=Europe/Berlin:20211022T210000
DTSTAMP:20260425T042106
CREATED:20210928T103147Z
LAST-MODIFIED:20220208T084341Z
UID:1241-1634929200-1634936400@prinzessinnengarten-kollektiv.net
SUMMARY:ABGESAGT - Kultureller Freitag mit Jules Taverne
DESCRIPTION:Im Rahmen unseres Sommerprogramms präsentieren wir euch freitags ein wöchentliches kulturelles Programm begleitend zu unseren Pizza-Abenden! \nDiesmal mit von der Partie \nJules Taverne\n \nAm Anfang war der Loop. Eine kleine Phrase\, ein Tropfen\, ein Destillat\, das alles in sich trägt. Es dreht sich\, es kommt und geht wieder\, wird größer\, stärker und klarer. Jazzige Orgeltöne werden gemischt mit verzerrten Gitarren\, wabernde Synthies fluten an über gebrochenen Beatsamples\, ätherische\, mehrstimmige Choräle dancen mit pumpenden Bässen. Und spätestens wenn die Drums\, gemästet wie Gänse kurz vor Weihnachten\, auf das Publikum niederprasseln\, gibt es kein Halten mehr. Darüber spitted Jules seine Verse mit einer Eindringlichkeit\, die sich gewaschen hat und jedem noch so abgestumpften Ohrenpaar Gänsehaut beschert. \nEnglish \nIn the beginning was the loop. A little phrase\, a drop\, a distillate that has it all. It rotates\, appears and vanishes again\, becomes bigger and stronger. A jazzy organ is mixed with distorted guitars\, billowing synths flood on over broken beat samples\, ethereal\, polyphonic chorals dance with pumping basses. \nwww.soundcloud.com/julestaverne\nwww.facebook.com/julestaverne123/\nJules Taverne bei YouTube \nAnmeldung\nBitte meldet euch vorab via event@prinzessinnengarten.net an! \nDie Teilnahme an der Veranstaltung ist kostenlos. \nWeitere Veranstaltungen im Rahmen unserer Kultureller Freitage findet ihr hier. \nBild: Jules Taverne \nMit freundlicher Unterstützung von Projektfonds Urbane Praxis
URL:https://prinzessinnengarten-kollektiv.net/event/kultureller-freitag-mit-jules-taverne/
LOCATION:Prinzessinnengarten Kollektiv Berlin\, Hermannstraße 99-105\, Berlin\, 12051\, Deutschland
CATEGORIES:Kultureller Freitag
ATTACH;FMTTYPE=image/jpeg:https://prinzessinnengarten-kollektiv.net/wp-content/uploads/2021/09/211022_Jules-Taverne.jpg
END:VEVENT
END:VCALENDAR