BEGIN:VCALENDAR
VERSION:2.0
PRODID:-//prinzessinnengarten kollektiv berlin - ECPv6.15.18//NONSGML v1.0//EN
CALSCALE:GREGORIAN
METHOD:PUBLISH
X-ORIGINAL-URL:https://prinzessinnengarten-kollektiv.net
X-WR-CALDESC:Veranstaltungen für prinzessinnengarten kollektiv berlin
REFRESH-INTERVAL;VALUE=DURATION:PT1H
X-Robots-Tag:noindex
X-PUBLISHED-TTL:PT1H
BEGIN:VTIMEZONE
TZID:Europe/Berlin
BEGIN:DAYLIGHT
TZOFFSETFROM:+0100
TZOFFSETTO:+0200
TZNAME:CEST
DTSTART:20200329T010000
END:DAYLIGHT
BEGIN:STANDARD
TZOFFSETFROM:+0200
TZOFFSETTO:+0100
TZNAME:CET
DTSTART:20201025T010000
END:STANDARD
BEGIN:DAYLIGHT
TZOFFSETFROM:+0100
TZOFFSETTO:+0200
TZNAME:CEST
DTSTART:20210328T010000
END:DAYLIGHT
BEGIN:STANDARD
TZOFFSETFROM:+0200
TZOFFSETTO:+0100
TZNAME:CET
DTSTART:20211031T010000
END:STANDARD
BEGIN:DAYLIGHT
TZOFFSETFROM:+0100
TZOFFSETTO:+0200
TZNAME:CEST
DTSTART:20220327T010000
END:DAYLIGHT
BEGIN:STANDARD
TZOFFSETFROM:+0200
TZOFFSETTO:+0100
TZNAME:CET
DTSTART:20221030T010000
END:STANDARD
END:VTIMEZONE
BEGIN:VEVENT
DTSTART;TZID=Europe/Berlin:20211001T150000
DTEND;TZID=Europe/Berlin:20211001T200000
DTSTAMP:20260425T011508
CREATED:20210930T085636Z
LAST-MODIFIED:20220413T091011Z
UID:1250-1633100400-1633118400@prinzessinnengarten-kollektiv.net
SUMMARY:Community Dinner - Nordafrikanische Küche
DESCRIPTION:Das studio nagelneu lädt ein zum Community Dinner mit Nordafrikatischer Küche direkt aus dem Kiez! \n  \nDas studio nagelneu\, ein ehemaliges Nagelstudio\, wird für die nächsten zwei Jahre zum öffentlichen Wohnzimmer für den Kiez. Initiiert vom Prinzessinnengarten Kollektiv Berlin und gestaltet vom Berliner Architekt:innen Kollektiv Team Dis+Ko wird der Raum zwischengenutzt und bietet Platz für Initiativen aus der Nachbarschaft\, Workshops\, Treffen und Veranstaltungen – für euch! \nWeitere Infos dazu findet ihr hier!
URL:https://prinzessinnengarten-kollektiv.net/event/community-dinner-nordafrikanische-kueche/
LOCATION:studio nagelneu\, Hermannstraße 103\, Berliin\, 12051\, Deutschland
CATEGORIES:edicitnet,studio nagelneu
ATTACH;FMTTYPE=image/jpeg:https://prinzessinnengarten-kollektiv.net/wp-content/uploads/2021/09/210924_kufa-studio-nagelneu.jpg
END:VEVENT
BEGIN:VEVENT
DTSTART;TZID=Europe/Berlin:20211001T180000
DTEND;TZID=Europe/Berlin:20211001T203000
DTSTAMP:20260425T011508
CREATED:20210915T162016Z
LAST-MODIFIED:20220208T084412Z
UID:1209-1633111200-1633120200@prinzessinnengarten-kollektiv.net
SUMMARY:Kultureller Freitag mit Geordie Little
DESCRIPTION:Im Rahmen unseres Sommerprogramms präsentieren wir euch freitags ein wöchentliches kulturelles Programm begleitend zu unseren Pizza-Abenden! \nDiesmal mit von der Partie \nGeordie Little\nBorn and raised in Adelaide\, South Australia\, and based since 2012 in Berlin\, Germany\, Geordie is a guitarist\, composer and sound designer – performing and creating as both a solo instrumentalist and in a number of collaborative projects. He is also the Musical Director and founding member of the acclaimed UK based arts creation house Fauna Circus Ltd. \nKnown primarily for his innovative approach to the guitar\, Geordie is signed to US based Fretmonkey Records and holds endorsements with Ortega Guitars and Augustine Strings. He first developed his style on the streets and has since developed and refined it on stages around the world\, performing in over 30 countries across 6 continents. Mixing percussion\, chords\, melodies and harmonies simultaneously\, and taking influence as much from the electronic and post-classical worlds as from his peers\, Geordie creates aurally and visually entrancing compositions\, redifining the boundaries of what the guitar can be. \nwww.geordielittlemusic.com \nAnmeldung\nBitte meldet euch vorab via event@prinzessinnengarten.net an! \nDie Teilnahme an der Veranstaltung ist kostenlos. \nWeitere Veranstaltungen im Rahmen unserer Kultureller Freitage findet ihr hier. \nBild: Caroline Rühle \nMit freundlicher Unterstützung von Projektfonds Urbane Praxis
URL:https://prinzessinnengarten-kollektiv.net/event/kultureller-freitag-mit-geordie-little/
LOCATION:Prinzessinnengarten Kollektiv Berlin\, Hermannstraße 99-105\, Berlin\, 12051\, Deutschland
CATEGORIES:Kultureller Freitag
ATTACH;FMTTYPE=image/jpeg:https://prinzessinnengarten-kollektiv.net/wp-content/uploads/2021/09/211001_geordie-little.jpg
END:VEVENT
END:VCALENDAR