BEGIN:VCALENDAR
VERSION:2.0
PRODID:-//prinzessinnengarten kollektiv berlin - ECPv6.15.18//NONSGML v1.0//EN
CALSCALE:GREGORIAN
METHOD:PUBLISH
X-WR-CALNAME:prinzessinnengarten kollektiv berlin
X-ORIGINAL-URL:https://prinzessinnengarten-kollektiv.net
X-WR-CALDESC:Veranstaltungen für prinzessinnengarten kollektiv berlin
REFRESH-INTERVAL;VALUE=DURATION:PT1H
X-Robots-Tag:noindex
X-PUBLISHED-TTL:PT1H
BEGIN:VTIMEZONE
TZID:Europe/Berlin
BEGIN:DAYLIGHT
TZOFFSETFROM:+0100
TZOFFSETTO:+0200
TZNAME:CEST
DTSTART:20200329T010000
END:DAYLIGHT
BEGIN:STANDARD
TZOFFSETFROM:+0200
TZOFFSETTO:+0100
TZNAME:CET
DTSTART:20201025T010000
END:STANDARD
BEGIN:DAYLIGHT
TZOFFSETFROM:+0100
TZOFFSETTO:+0200
TZNAME:CEST
DTSTART:20210328T010000
END:DAYLIGHT
BEGIN:STANDARD
TZOFFSETFROM:+0200
TZOFFSETTO:+0100
TZNAME:CET
DTSTART:20211031T010000
END:STANDARD
BEGIN:DAYLIGHT
TZOFFSETFROM:+0100
TZOFFSETTO:+0200
TZNAME:CEST
DTSTART:20220327T010000
END:DAYLIGHT
BEGIN:STANDARD
TZOFFSETFROM:+0200
TZOFFSETTO:+0100
TZNAME:CET
DTSTART:20221030T010000
END:STANDARD
END:VTIMEZONE
BEGIN:VEVENT
DTSTART;TZID=Europe/Berlin:20210924T170000
DTEND;TZID=Europe/Berlin:20210924T180000
DTSTAMP:20260424T202758
CREATED:20210915T135533Z
LAST-MODIFIED:20220208T172710Z
UID:1191-1632502800-1632506400@prinzessinnengarten-kollektiv.net
SUMMARY:Theater im Park am Buschkrug
DESCRIPTION:Unsere Parkhausmeister:innen präsentieren: \nAm Freitag\, dem 24. September. spielt das Theaterensemble Rotonda Teatro ihr Stück „Britta die kleine Ratte“ im Park am Buschkrug: \nEine schusselige und schokoladenvernarrte Ratte wohnt mit zwei Clowns zusammen\, die immer ihren Zug verpassen. Sie laden uns zu einem Tag voller Abenteuer ein\, indem sie zeigen\, dass man sich überall und nirgendwo zu Hause fühlen kann. \nIn der Inszenierung werden Fiktion und Realität\, Poesie und Humor gemischt und es gibt nur ein einziges Ziel: lachen und das Publikum zum Lachen bringen. \nLos geht es um 17 Uhr neben der Tischtennisplatte nahe des Imbiss´ unten am Spielplatz. \nNähere Eindrücke zum Stück findet ihr hier \nBei Unwetter wird der Termin verschoben. \nDer Eintritt ist frei.
URL:https://prinzessinnengarten-kollektiv.net/event/theater-im-park-am-buschkrug-2/
CATEGORIES:Park
ATTACH;FMTTYPE=image/jpeg:https://prinzessinnengarten-kollektiv.net/wp-content/uploads/2021/09/210924_theater-im-Park-am-Buschkrug.jpg
END:VEVENT
BEGIN:VEVENT
DTSTART;TZID=Europe/Berlin:20210924T183000
DTEND;TZID=Europe/Berlin:20210924T220000
DTSTAMP:20260424T202758
CREATED:20210830T075457Z
LAST-MODIFIED:20220514T081903Z
UID:1141-1632508200-1632520800@prinzessinnengarten-kollektiv.net
SUMMARY:Kultureller Freitag mit Las Maleantes
DESCRIPTION:Im Rahmen unseres Sommerprogramms präsentieren wir euch freitags ein wöchentliches kulturelles Programm begleitend zu unseren Pizza-Abenden! \n  \nDiesmal mit von der Partie \n  \nLas Maleantes
URL:https://prinzessinnengarten-kollektiv.net/event/kultureller-freitag-mit-jonas-wolf-2/
LOCATION:Prinzessinnengarten Kollektiv Berlin\, Hermannstraße 99-105\, Berlin\, 12051\, Deutschland
CATEGORIES:Kultureller Freitag
ATTACH;FMTTYPE=image/jpeg:https://prinzessinnengarten-kollektiv.net/wp-content/uploads/2021/09/210924_kunstwagen-serie-II-poster-lang.jpg
END:VEVENT
END:VCALENDAR