BEGIN:VCALENDAR
VERSION:2.0
PRODID:-//prinzessinnengarten kollektiv berlin - ECPv6.15.18//NONSGML v1.0//EN
CALSCALE:GREGORIAN
METHOD:PUBLISH
X-ORIGINAL-URL:https://prinzessinnengarten-kollektiv.net
X-WR-CALDESC:Veranstaltungen für prinzessinnengarten kollektiv berlin
REFRESH-INTERVAL;VALUE=DURATION:PT1H
X-Robots-Tag:noindex
X-PUBLISHED-TTL:PT1H
BEGIN:VTIMEZONE
TZID:Europe/Berlin
BEGIN:DAYLIGHT
TZOFFSETFROM:+0100
TZOFFSETTO:+0200
TZNAME:CEST
DTSTART:20200329T010000
END:DAYLIGHT
BEGIN:STANDARD
TZOFFSETFROM:+0200
TZOFFSETTO:+0100
TZNAME:CET
DTSTART:20201025T010000
END:STANDARD
BEGIN:DAYLIGHT
TZOFFSETFROM:+0100
TZOFFSETTO:+0200
TZNAME:CEST
DTSTART:20210328T010000
END:DAYLIGHT
BEGIN:STANDARD
TZOFFSETFROM:+0200
TZOFFSETTO:+0100
TZNAME:CET
DTSTART:20211031T010000
END:STANDARD
BEGIN:DAYLIGHT
TZOFFSETFROM:+0100
TZOFFSETTO:+0200
TZNAME:CEST
DTSTART:20220327T010000
END:DAYLIGHT
BEGIN:STANDARD
TZOFFSETFROM:+0200
TZOFFSETTO:+0100
TZNAME:CET
DTSTART:20221030T010000
END:STANDARD
END:VTIMEZONE
BEGIN:VEVENT
DTSTART;TZID=Europe/Berlin:20210921T143000
DTEND;TZID=Europe/Berlin:20210921T180000
DTSTAMP:20260424T170750
CREATED:20210915T112144Z
LAST-MODIFIED:20220208T172827Z
UID:1186-1632234600-1632247200@prinzessinnengarten-kollektiv.net
SUMMARY:Workshop Wurmkiste bauen
DESCRIPTION:Ein Haustier in deiner kleinen Wohnung?\nNährstoffreiche Erde selbst produzieren?\nDas geht zusammen mit Deiner Wurmkiste aus Holz! \nKomm vorbei und bau Dir Deine Wurmkiste selbst. \nKostenlos und offen für alle: \nDienstag 21. September\, 14:30- 18 Uhr\nOrt: in der Hasenheide\, Nähe Eingang von der Lucy-Lameckstr\nMail:umweltbildung@prinzessinengarten.net \nPräsentiert von unseren Parkhausmeister*innen
URL:https://prinzessinnengarten-kollektiv.net/event/workshop-wurmkiste-bauen/
CATEGORIES:Park
ATTACH;FMTTYPE=image/jpeg:https://prinzessinnengarten-kollektiv.net/wp-content/uploads/2021/09/210921_wurm.jpg
END:VEVENT
END:VCALENDAR