BEGIN:VCALENDAR
VERSION:2.0
PRODID:-//prinzessinnengarten kollektiv berlin - ECPv6.15.18//NONSGML v1.0//EN
CALSCALE:GREGORIAN
METHOD:PUBLISH
X-WR-CALNAME:prinzessinnengarten kollektiv berlin
X-ORIGINAL-URL:https://prinzessinnengarten-kollektiv.net
X-WR-CALDESC:Veranstaltungen für prinzessinnengarten kollektiv berlin
REFRESH-INTERVAL;VALUE=DURATION:PT1H
X-Robots-Tag:noindex
X-PUBLISHED-TTL:PT1H
BEGIN:VTIMEZONE
TZID:Europe/Berlin
BEGIN:DAYLIGHT
TZOFFSETFROM:+0100
TZOFFSETTO:+0200
TZNAME:CEST
DTSTART:20200329T010000
END:DAYLIGHT
BEGIN:STANDARD
TZOFFSETFROM:+0200
TZOFFSETTO:+0100
TZNAME:CET
DTSTART:20201025T010000
END:STANDARD
BEGIN:DAYLIGHT
TZOFFSETFROM:+0100
TZOFFSETTO:+0200
TZNAME:CEST
DTSTART:20210328T010000
END:DAYLIGHT
BEGIN:STANDARD
TZOFFSETFROM:+0200
TZOFFSETTO:+0100
TZNAME:CET
DTSTART:20211031T010000
END:STANDARD
BEGIN:DAYLIGHT
TZOFFSETFROM:+0100
TZOFFSETTO:+0200
TZNAME:CEST
DTSTART:20220327T010000
END:DAYLIGHT
BEGIN:STANDARD
TZOFFSETFROM:+0200
TZOFFSETTO:+0100
TZNAME:CET
DTSTART:20221030T010000
END:STANDARD
END:VTIMEZONE
BEGIN:VEVENT
DTSTART;TZID=Europe/Berlin:20210916T193000
DTEND;TZID=Europe/Berlin:20210916T220000
DTSTAMP:20260424T100132
CREATED:20210828T195836Z
LAST-MODIFIED:20210828T195928Z
UID:1124-1631820600-1631829600@prinzessinnengarten-kollektiv.net
SUMMARY:Are you Flirting with me?
DESCRIPTION:Wie wollen wir flirten? In unserem Theaterabend erfinden wir das Flirten neu:\nfeministisch\, zärtlich und mit jeder Menge Spaß. Dabei werfen wir traditionelle Geschlechterrollen über Bord und tauchen in post-patriarchale Flirt-Utopien ein.\nLasst uns das Flirten zelebrieren!
URL:https://prinzessinnengarten-kollektiv.net/event/are-you-flirting-with-me-2/
LOCATION:Prinzessinnengarten Kollektiv Berlin\, Hermannstraße 99-105\, Berlin\, 12051\, Deutschland
END:VEVENT
END:VCALENDAR