BEGIN:VCALENDAR
VERSION:2.0
PRODID:-//prinzessinnengarten kollektiv berlin - ECPv6.15.18//NONSGML v1.0//EN
CALSCALE:GREGORIAN
METHOD:PUBLISH
X-ORIGINAL-URL:https://prinzessinnengarten-kollektiv.net
X-WR-CALDESC:Veranstaltungen für prinzessinnengarten kollektiv berlin
REFRESH-INTERVAL;VALUE=DURATION:PT1H
X-Robots-Tag:noindex
X-PUBLISHED-TTL:PT1H
BEGIN:VTIMEZONE
TZID:Europe/Berlin
BEGIN:DAYLIGHT
TZOFFSETFROM:+0100
TZOFFSETTO:+0200
TZNAME:CEST
DTSTART:20200329T010000
END:DAYLIGHT
BEGIN:STANDARD
TZOFFSETFROM:+0200
TZOFFSETTO:+0100
TZNAME:CET
DTSTART:20201025T010000
END:STANDARD
BEGIN:DAYLIGHT
TZOFFSETFROM:+0100
TZOFFSETTO:+0200
TZNAME:CEST
DTSTART:20210328T010000
END:DAYLIGHT
BEGIN:STANDARD
TZOFFSETFROM:+0200
TZOFFSETTO:+0100
TZNAME:CET
DTSTART:20211031T010000
END:STANDARD
BEGIN:DAYLIGHT
TZOFFSETFROM:+0100
TZOFFSETTO:+0200
TZNAME:CEST
DTSTART:20220327T010000
END:DAYLIGHT
BEGIN:STANDARD
TZOFFSETFROM:+0200
TZOFFSETTO:+0100
TZNAME:CET
DTSTART:20221030T010000
END:STANDARD
END:VTIMEZONE
BEGIN:VEVENT
DTSTART;TZID=Europe/Berlin:20210903T160000
DTEND;TZID=Europe/Berlin:20210903T200000
DTSTAMP:20260423T183204
CREATED:20210830T125337Z
LAST-MODIFIED:20220514T083209Z
UID:1153-1630684800-1630699200@prinzessinnengarten-kollektiv.net
SUMMARY:Eröffnung StudioNeu
DESCRIPTION:Nicht nur im Garten wurde in den letzten Monaten fleißig gewerkelt\, geschraubt und gemalert\, sondern auch im benachbarten Gewerberaum in der Hermannstraße 103. In Zusammenarbeit mit dem Architekturkollektiv Team Dis+Ko entsteht im ehemaligen Nagelstudio nun ein offener Raum für Bildung\, Mitgestaltung und Stadtnatur. \nFr. 3. September\, 16-20 Uhr\nHermannstraße 103 \nZur feierlichen Eröffnung erwarten euch KüfA (Küche für Alle)\, ein Kulturprogramm und als Special die Aktion „Bunte Nägel für alle“. \nMit freundlicher Unterstützung vom Projektfonds Urbane Praxis.
URL:https://prinzessinnengarten-kollektiv.net/event/eroeffnung-studioneu/
LOCATION:studio nagelneu\, Hermannstraße 103\, Berliin\, 12051\, Deutschland
CATEGORIES:edicitnet,studio nagelneu,urbane praxis
ATTACH;FMTTYPE=image/jpeg:https://prinzessinnengarten-kollektiv.net/wp-content/uploads/2021/08/210903_studioneu.jpg
END:VEVENT
BEGIN:VEVENT
DTSTART;TZID=Europe/Berlin:20210903T183000
DTEND;TZID=Europe/Berlin:20210903T200000
DTSTAMP:20260423T183204
CREATED:20210830T074549Z
LAST-MODIFIED:20220208T084539Z
UID:1132-1630693800-1630699200@prinzessinnengarten-kollektiv.net
SUMMARY:Kultureller Freitag mit Jonas Wolf
DESCRIPTION:Im Rahmen unseres Sommerprogramms präsentieren wir euch freitags ein wöchentliches kulturelles Programm begleitend zu unseren Pizza-Abenden! \nDiesmal mit von der Partie \nJonas Wolf\nImpro/Jazz mit Gitarre  Pfiff und Gesang.\nJonas Wolf spielt neu interpretierte Jazz Klassiker und eigene Gitarren Kompositionen. Jazzig und verträumt. \nAnmeldung\nBitte meldet euch vorab via event@prinzessinnengarten.net an! \nDie Teilnahme an der Veranstaltung ist kostenlos. \nWeitere Veranstaltungen im Rahmen unserer Kultureller Freitage findet ihr hier. \nMit freundlicher Unterstützung von Projektfonds Urbane Praxis
URL:https://prinzessinnengarten-kollektiv.net/event/kultureller-freitag-mit-jonas-wolf/
LOCATION:Prinzessinnengarten Kollektiv Berlin\, Hermannstraße 99-105\, Berlin\, 12051\, Deutschland
CATEGORIES:Kultureller Freitag
ATTACH;FMTTYPE=image/jpeg:https://prinzessinnengarten-kollektiv.net/wp-content/uploads/2021/08/210903_jonas-w.jpg
END:VEVENT
BEGIN:VEVENT
DTSTART;TZID=Europe/Berlin:20210903T201500
DTEND;TZID=Europe/Berlin:20210903T220000
DTSTAMP:20260423T183204
CREATED:20210830T075019Z
LAST-MODIFIED:20220208T175037Z
UID:1136-1630700100-1630706400@prinzessinnengarten-kollektiv.net
SUMMARY:OpenAir Gartenkino - Ich bin dein Mensch (DmeU)
DESCRIPTION:In Kooperation mit dem b-ware! Ladenkino präsentieren wir euch auch diesem Sommer wieder eine feine Auswahl von Filmen unter freiem Himmel. \nDiesmal im Freiluft.Menue: Ich bin dein Mensch (DmeU) \nIch bin dein Mensch\nAlma (Maren Eggert) ist Wissenschaftlerin am berühmten Pergamon-Museum in Berlin. Um an Forschungsgelder für ihre Arbeit zu kommen\, lässt sie sich zur Teilnahme an einer außergewöhnlichen Studie überreden. Drei Wochen lang soll sie mit einem ganz auf ihren Charakter und ihre Bedürfnisse zugeschnittenen humanoiden Roboter zusammenleben\, dessen künstliche Intelligenz darauf angelegt ist\, der perfekte Lebenspartner für sie zu sein. Alma trifft auf Tom (Dan Stevens)\, eine hochentwickelte Maschine in Menschengestalt\, einzig dafür geschaffen\, sie glücklich zu machen…. \nDie Tickets gibt es direkt beim Ladenkino! \nBei Fragen zu Abendkasse\, Tickets etc. meldet euch bitte direkt beim Team vom Ladenkino über diesen Link. \nHinweis:\nProgrammzeit ist auch Startzeit – Wir zeigen keine Werbung vor den Filmen!
URL:https://prinzessinnengarten-kollektiv.net/event/openair-gartenkino-4/
LOCATION:Prinzessinnengarten Kollektiv Berlin\, Hermannstraße 99-105\, Berlin\, 12051\, Deutschland
CATEGORIES:Kino
ATTACH;FMTTYPE=image/jpeg:https://prinzessinnengarten-kollektiv.net/wp-content/uploads/2021/07/210806_gartenkino.jpg
END:VEVENT
END:VCALENDAR