BEGIN:VCALENDAR
VERSION:2.0
PRODID:-//prinzessinnengarten kollektiv berlin - ECPv6.15.18//NONSGML v1.0//EN
CALSCALE:GREGORIAN
METHOD:PUBLISH
X-ORIGINAL-URL:https://prinzessinnengarten-kollektiv.net
X-WR-CALDESC:Veranstaltungen für prinzessinnengarten kollektiv berlin
REFRESH-INTERVAL;VALUE=DURATION:PT1H
X-Robots-Tag:noindex
X-PUBLISHED-TTL:PT1H
BEGIN:VTIMEZONE
TZID:Europe/Berlin
BEGIN:DAYLIGHT
TZOFFSETFROM:+0100
TZOFFSETTO:+0200
TZNAME:CEST
DTSTART:20200329T010000
END:DAYLIGHT
BEGIN:STANDARD
TZOFFSETFROM:+0200
TZOFFSETTO:+0100
TZNAME:CET
DTSTART:20201025T010000
END:STANDARD
BEGIN:DAYLIGHT
TZOFFSETFROM:+0100
TZOFFSETTO:+0200
TZNAME:CEST
DTSTART:20210328T010000
END:DAYLIGHT
BEGIN:STANDARD
TZOFFSETFROM:+0200
TZOFFSETTO:+0100
TZNAME:CET
DTSTART:20211031T010000
END:STANDARD
BEGIN:DAYLIGHT
TZOFFSETFROM:+0100
TZOFFSETTO:+0200
TZNAME:CEST
DTSTART:20220327T010000
END:DAYLIGHT
BEGIN:STANDARD
TZOFFSETFROM:+0200
TZOFFSETTO:+0100
TZNAME:CET
DTSTART:20221030T010000
END:STANDARD
END:VTIMEZONE
BEGIN:VEVENT
DTSTART;TZID=Europe/Berlin:20210827T190000
DTEND;TZID=Europe/Berlin:20210827T210000
DTSTAMP:20260423T183019
CREATED:20210719T145605Z
LAST-MODIFIED:20220208T084549Z
UID:964-1630090800-1630098000@prinzessinnengarten-kollektiv.net
SUMMARY:Kultureller Freitag: Ein Abend mit queerer Lyric & den Zwei lustigen Drei
DESCRIPTION:Im Rahmen unseres Sommerprogramms präsentieren wir euch freitags ein wöchentliches kulturelles Programm begleitend zu unseren Pizza-Abenden! \nDiesmal mit von der Partie \nKevin Junk: Verflechtungen – Ein Abend mit queerer Lyrik\nGibt es eine queere Perspektive auf Natur? Queere Lyrik sagt ja\, denn sie verhandelt eine neue Perspektive auf die Welt\, den Planeten und das Leben. Sie fordert uns dazu auf nicht nur unsere eigenen Normen\, sondern auch die Normen unserer Naturvorstellung zu hinterfragen. Dabei spielt sie mit Bedeutungen\, mit den Sinnen und schlägt Verflechtungen vor\, die uns ein neues Denken schenken. Kevin Junk präsentiert einen Abend mit queeren Gedichten aus seinem Schreiben und von anderen Gegenwartsautor*innen. \nKevin Junk ist Schriftsteller\, Herausgeber und Aktivist aus Berlin. Zuletzt erschien der Roman „Fromme Wölfe“ im Querverlag. Er gibt ab Herbst den Lyrikband „Parabolis Virtualis“ mit neuer queerer Lyrik\, ebenfalls im Querverlag\, heraus. \nDie Zwei lustigen Drei\nAus der Spontanität geboren kredenzen uns die Zwei lustigen Drei ihren rythmischen Mix aus Bass und Live-Beatbox mit einer Performance\, die alle Beteiligten mindestens zum Wippen bringt. \nAnmeldung\nBitte meldet euch vorab via event@prinzessinnengarten.net an! \nDie Teilnahme an der Veranstaltung ist kostenlos. \nWeitere Veranstaltungen im Rahmen unserer Kultureller Freitage findet ihr hier. \nBild: Carolin Saage \nMit freundlicher Unterstützung von Projektfonds Urbane Praxis
URL:https://prinzessinnengarten-kollektiv.net/event/kultureller-freitag-3/
LOCATION:Prinzessinnengarten Kollektiv Berlin\, Hermannstraße 99-105\, Berlin\, 12051\, Deutschland
CATEGORIES:Kultureller Freitag
ATTACH;FMTTYPE=image/jpeg:https://prinzessinnengarten-kollektiv.net/wp-content/uploads/2021/08/210827_Lichtbaum_1.jpg
END:VEVENT
END:VCALENDAR