BEGIN:VCALENDAR
VERSION:2.0
PRODID:-//prinzessinnengarten kollektiv berlin - ECPv6.15.18//NONSGML v1.0//EN
CALSCALE:GREGORIAN
METHOD:PUBLISH
X-WR-CALNAME:prinzessinnengarten kollektiv berlin
X-ORIGINAL-URL:https://prinzessinnengarten-kollektiv.net
X-WR-CALDESC:Veranstaltungen für prinzessinnengarten kollektiv berlin
REFRESH-INTERVAL;VALUE=DURATION:PT1H
X-Robots-Tag:noindex
X-PUBLISHED-TTL:PT1H
BEGIN:VTIMEZONE
TZID:Europe/Berlin
BEGIN:DAYLIGHT
TZOFFSETFROM:+0100
TZOFFSETTO:+0200
TZNAME:CEST
DTSTART:20200329T010000
END:DAYLIGHT
BEGIN:STANDARD
TZOFFSETFROM:+0200
TZOFFSETTO:+0100
TZNAME:CET
DTSTART:20201025T010000
END:STANDARD
BEGIN:DAYLIGHT
TZOFFSETFROM:+0100
TZOFFSETTO:+0200
TZNAME:CEST
DTSTART:20210328T010000
END:DAYLIGHT
BEGIN:STANDARD
TZOFFSETFROM:+0200
TZOFFSETTO:+0100
TZNAME:CET
DTSTART:20211031T010000
END:STANDARD
BEGIN:DAYLIGHT
TZOFFSETFROM:+0100
TZOFFSETTO:+0200
TZNAME:CEST
DTSTART:20220327T010000
END:DAYLIGHT
BEGIN:STANDARD
TZOFFSETFROM:+0200
TZOFFSETTO:+0100
TZNAME:CET
DTSTART:20221030T010000
END:STANDARD
END:VTIMEZONE
BEGIN:VEVENT
DTSTART;TZID=Europe/Berlin:20210820T190000
DTEND;TZID=Europe/Berlin:20210820T210000
DTSTAMP:20260423T182515
CREATED:20210719T145506Z
LAST-MODIFIED:20220514T082014Z
UID:962-1629486000-1629493200@prinzessinnengarten-kollektiv.net
SUMMARY:Kultureller Freitag mit Clara Pazinni und The Rixdorf Rounders
DESCRIPTION:Im Rahmen unseres Sommerprogramms präsentieren wir euch freitags ein wöchentliches kulturelles Programm begleitend zu unseren Pizza-Abenden! \nDiesmal mit von der Partie \nClara Pazzini\nCLARA PAZZINI LIVE\nCONCERT AND RELEASE SHOW FOR THE UPCOMING SINGLE „NOW“\nSTARTS SHARP AT 7 PM \nClara Pazinni’s zeitgenössischer Mix aus Vocoder\, elektronischen Beats\, Klassik-Elementen\, Pop-\, Sprach- und Operngesang\, mehrsprachigen Lyrics und eingängigen Popmelodien ist ein Abbild unserer modernen\, multikomplexen und diversen Welt. Schnell wird klar: Nach einem musikalischen Genre sucht man vergeblich. CLARA PAZZINI stellt sich gegen die Erwartung und unterwirft sich dabei keinem System.\nMehr Info unter https://linktr.ee/clarapazzini \nThe Rixdorf Rounders\nDiese old-time Ramblin‘ Banjo Stringband bringt old-time Musik in die Old World mit Klängen\, die hohe und einsame Bergballaden mit Cowboy Country\, Rock & Roll und Blues vermischen. Mehr Info @ https://rixdorfrounders.bandcamp.com. \nAnmeldung\nBitte meldet euch vorab via event@prinzessinnengarten.net an! \nDie Teilnahme an der Veranstaltung ist kostenlos. \nWeitere Veranstaltungen im Rahmen unserer Kultureller Freitage findet ihr hier. \nMit freundlicher Unterstützung von Projektfonds Urbane Praxis
URL:https://prinzessinnengarten-kollektiv.net/event/kultureller-freitag-2/
LOCATION:Prinzessinnengarten Kollektiv Berlin\, Hermannstraße 99-105\, Berlin\, 12051\, Deutschland
CATEGORIES:Kultureller Freitag
ATTACH;FMTTYPE=image/jpeg:https://prinzessinnengarten-kollektiv.net/wp-content/uploads/2021/07/210820_pazzini-rixdorf-rounders-scaled.jpg
END:VEVENT
BEGIN:VEVENT
DTSTART;TZID=Europe/Berlin:20210820T211500
DTEND;TZID=Europe/Berlin:20210820T230000
DTSTAMP:20260423T182515
CREATED:20210719T151321Z
LAST-MODIFIED:20210728T182334Z
UID:971-1629494100-1629500400@prinzessinnengarten-kollektiv.net
SUMMARY:OpenAir Gartenkino - Notes of Berlin (OmeU)
DESCRIPTION:In Kooperation mit dem b-ware! Ladenkino präsentieren wir euch auch diesem Sommer wieder eine feine Auswahl von Filmen unter freiem Himmel.
URL:https://prinzessinnengarten-kollektiv.net/event/openair-gartenkino-3-2/
LOCATION:Prinzessinnengarten Kollektiv Berlin\, Hermannstraße 99-105\, Berlin\, 12051\, Deutschland
CATEGORIES:Kino
END:VEVENT
END:VCALENDAR