BEGIN:VCALENDAR
VERSION:2.0
PRODID:-//prinzessinnengarten kollektiv berlin - ECPv6.15.18//NONSGML v1.0//EN
CALSCALE:GREGORIAN
METHOD:PUBLISH
X-WR-CALNAME:prinzessinnengarten kollektiv berlin
X-ORIGINAL-URL:https://prinzessinnengarten-kollektiv.net
X-WR-CALDESC:Veranstaltungen für prinzessinnengarten kollektiv berlin
REFRESH-INTERVAL;VALUE=DURATION:PT1H
X-Robots-Tag:noindex
X-PUBLISHED-TTL:PT1H
BEGIN:VTIMEZONE
TZID:Europe/Berlin
BEGIN:DAYLIGHT
TZOFFSETFROM:+0100
TZOFFSETTO:+0200
TZNAME:CEST
DTSTART:20200329T010000
END:DAYLIGHT
BEGIN:STANDARD
TZOFFSETFROM:+0200
TZOFFSETTO:+0100
TZNAME:CET
DTSTART:20201025T010000
END:STANDARD
BEGIN:DAYLIGHT
TZOFFSETFROM:+0100
TZOFFSETTO:+0200
TZNAME:CEST
DTSTART:20210328T010000
END:DAYLIGHT
BEGIN:STANDARD
TZOFFSETFROM:+0200
TZOFFSETTO:+0100
TZNAME:CET
DTSTART:20211031T010000
END:STANDARD
BEGIN:DAYLIGHT
TZOFFSETFROM:+0100
TZOFFSETTO:+0200
TZNAME:CEST
DTSTART:20220327T010000
END:DAYLIGHT
BEGIN:STANDARD
TZOFFSETFROM:+0200
TZOFFSETTO:+0100
TZNAME:CET
DTSTART:20221030T010000
END:STANDARD
END:VTIMEZONE
BEGIN:VEVENT
DTSTART;TZID=Europe/Berlin:20210814T170000
DTEND;TZID=Europe/Berlin:20210814T170000
DTSTAMP:20260423T195425
CREATED:20210811T140924Z
LAST-MODIFIED:20210811T143940Z
UID:1072-1628960400-1628960400@prinzessinnengarten-kollektiv.net
SUMMARY:Tree Translator. Gespräche unter Bäumen
DESCRIPTION:Bäume kommunizieren miteinander. Wo Kommunikation ist\, ist auch eine Sprache\, die man lernen kann. Wie beginnt man das Lernen einer Sprache\, von der man noch nicht weiß\, wie sie funktioniert? Mit Zuhören.
URL:https://prinzessinnengarten-kollektiv.net/event/tree-translator-gespraeche-unter-baeumen-2/
LOCATION:Prinzessinnengarten Kollektiv Berlin\, Hermannstraße 99-105\, Berlin\, 12051\, Deutschland
END:VEVENT
END:VCALENDAR