BEGIN:VCALENDAR
VERSION:2.0
PRODID:-//prinzessinnengarten kollektiv berlin - ECPv6.15.18//NONSGML v1.0//EN
CALSCALE:GREGORIAN
METHOD:PUBLISH
X-ORIGINAL-URL:https://prinzessinnengarten-kollektiv.net
X-WR-CALDESC:Veranstaltungen für prinzessinnengarten kollektiv berlin
REFRESH-INTERVAL;VALUE=DURATION:PT1H
X-Robots-Tag:noindex
X-PUBLISHED-TTL:PT1H
BEGIN:VTIMEZONE
TZID:Europe/Berlin
BEGIN:DAYLIGHT
TZOFFSETFROM:+0100
TZOFFSETTO:+0200
TZNAME:CEST
DTSTART:20200329T010000
END:DAYLIGHT
BEGIN:STANDARD
TZOFFSETFROM:+0200
TZOFFSETTO:+0100
TZNAME:CET
DTSTART:20201025T010000
END:STANDARD
BEGIN:DAYLIGHT
TZOFFSETFROM:+0100
TZOFFSETTO:+0200
TZNAME:CEST
DTSTART:20210328T010000
END:DAYLIGHT
BEGIN:STANDARD
TZOFFSETFROM:+0200
TZOFFSETTO:+0100
TZNAME:CET
DTSTART:20211031T010000
END:STANDARD
BEGIN:DAYLIGHT
TZOFFSETFROM:+0100
TZOFFSETTO:+0200
TZNAME:CEST
DTSTART:20220327T010000
END:DAYLIGHT
BEGIN:STANDARD
TZOFFSETFROM:+0200
TZOFFSETTO:+0100
TZNAME:CET
DTSTART:20221030T010000
END:STANDARD
END:VTIMEZONE
BEGIN:VEVENT
DTSTART;TZID=Europe/Berlin:20210717T110000
DTEND;TZID=Europe/Berlin:20210717T150000
DTSTAMP:20260423T165621
CREATED:20210630T084444Z
LAST-MODIFIED:20220413T091127Z
UID:906-1626519600-1626534000@prinzessinnengarten-kollektiv.net
SUMMARY:Aktionstag 17. Juli 2021
DESCRIPTION:Unser buntes Programm für den Aktionstag im Juli \nUnser Programm für den Aktionstag im Juli 2021 \n  \n11-15 Uhr\nAchtsames Gärtnern auf dem Gemüseacker\nAusbau der Hochbeetwieseninfrastruktur\nTeeernte auf dem Acker\nSiebdruck \n11:30 – 13:00\nPilz-Workshop \n12 Uhr\nOffene Führung zur Friedhofskonversion \n14 Uhr\nDas Kollektiv Political Kitchen rettet diese Woche Lebensmittel um es am Samstag ab 14:00 mit euch zusammen vorzubereiten\, zu essen und rund um das Thema Lebensmittelverschwendung auszutauschen \nUm die Teilnahme für alle so sicher wie möglich zu gestalten\, beachtet bitte unsere aktuellen Hinweise zur Teilnahme an unseren Beteiligungsangeboten und meldet euch vorab via mitmachen@prinzessinnengarten.net unter Angabe eures gewünschten Einsatzbereiches an. \nDiese Veranstaltung findet im Rahmen des Edible Cities Networks statt.
URL:https://prinzessinnengarten-kollektiv.net/event/aktionstag-17-juli-2021/
LOCATION:Prinzessinnengarten Kollektiv Berlin\, Hermannstraße 99-105\, Berlin\, 12051\, Deutschland
CATEGORIES:Aktionstag,edicitnet
ATTACH;FMTTYPE=image/jpeg:https://prinzessinnengarten-kollektiv.net/wp-content/uploads/2021/06/210621_Aktionstag.jpg
END:VEVENT
END:VCALENDAR