BEGIN:VCALENDAR
VERSION:2.0
PRODID:-//prinzessinnengarten kollektiv berlin - ECPv6.15.18//NONSGML v1.0//EN
CALSCALE:GREGORIAN
METHOD:PUBLISH
X-WR-CALNAME:prinzessinnengarten kollektiv berlin
X-ORIGINAL-URL:https://prinzessinnengarten-kollektiv.net
X-WR-CALDESC:Veranstaltungen für prinzessinnengarten kollektiv berlin
REFRESH-INTERVAL;VALUE=DURATION:PT1H
X-Robots-Tag:noindex
X-PUBLISHED-TTL:PT1H
BEGIN:VTIMEZONE
TZID:Europe/Berlin
BEGIN:DAYLIGHT
TZOFFSETFROM:+0100
TZOFFSETTO:+0200
TZNAME:CEST
DTSTART:20200329T010000
END:DAYLIGHT
BEGIN:STANDARD
TZOFFSETFROM:+0200
TZOFFSETTO:+0100
TZNAME:CET
DTSTART:20201025T010000
END:STANDARD
BEGIN:DAYLIGHT
TZOFFSETFROM:+0100
TZOFFSETTO:+0200
TZNAME:CEST
DTSTART:20210328T010000
END:DAYLIGHT
BEGIN:STANDARD
TZOFFSETFROM:+0200
TZOFFSETTO:+0100
TZNAME:CET
DTSTART:20211031T010000
END:STANDARD
BEGIN:DAYLIGHT
TZOFFSETFROM:+0100
TZOFFSETTO:+0200
TZNAME:CEST
DTSTART:20220327T010000
END:DAYLIGHT
BEGIN:STANDARD
TZOFFSETFROM:+0200
TZOFFSETTO:+0100
TZNAME:CET
DTSTART:20221030T010000
END:STANDARD
END:VTIMEZONE
BEGIN:VEVENT
DTSTART;TZID=Europe/Berlin:20210701T150000
DTEND;TZID=Europe/Berlin:20210701T180000
DTSTAMP:20260423T152937
CREATED:20210504T065602Z
LAST-MODIFIED:20220513T091314Z
UID:713-1625151600-1625162400@prinzessinnengarten-kollektiv.net
SUMMARY:Obstbaumschnitt-Kurs mit Kai Gildhorn
DESCRIPTION:Zum Auftakt der Kursreihe rund um essbare Landschaftsgestaltung findet am 1. Juli 2021 der erste Obstbaumschnitt-Kurs mit Kai Gildhorn (Zertifizierter Obstbaumwart) statt
URL:https://prinzessinnengarten-kollektiv.net/event/obstbaumschnitt-kurs-mit-kai-gildhorn/
LOCATION:GutsGarten Hellersdorf\, Alt-Hellersdorf 17\, Berlin\, 12626\, Deutschland
CATEGORIES:edicitnet,Gutsgarten
END:VEVENT
END:VCALENDAR